BEGIN:VCALENDAR
VERSION:2.0
PRODID:SchoolNow
CALSCALE:GREGORIAN
BEGIN:VEVENT
UID:fcc9333c-8c9c-11ef-a61c-025b1862ac8f
DTSTAMP:20250416T152510Z
SUMMARY:CDD Board Meeting - Apr. 2025
LOCATION:Parkway Center CDD Clubhouse Located at 7461 S Falkenburg Rd River
 view\, FL 33578
URL;VALUE=URI:https://www.myoakcreekcommunity.net/calendar/6843309/cdd-boar
 d-meeting-apr-2025
DTSTART:20250423T223000Z
DTEND:20250423T233000Z
ATTACH;FILENAME=2025-04-23 Parkway Center Agenda Pkg.pdf;FMTTYPE=applicatio
 n/pdf:https://campussuite-storage.s3.amazonaws.com/prod/1559237/49d0ff4a-8
 a61-11ef-9227-0a58a9feac02/2941385/f52cb194-1ad6-11f0-9895-023e60c5379f/fi
 le/2025-04-23 Parkway Center Agenda Pkg.pdf
ATTACH;FILENAME=2025-04-23 Parkway Center rev2 Agenda.pdf;FMTTYPE=applicati
 on/pdf:https://campussuite-storage.s3.amazonaws.com/prod/1559237/49d0ff4a-
 8a61-11ef-9227-0a58a9feac02/2941386/f52d039c-1ad6-11f0-9815-023e60c5379f/f
 ile/2025-04-23 Parkway Center rev2 Agenda.pdf
END:VEVENT
END:VCALENDAR
