BEGIN:VCALENDAR
VERSION:2.0
PRODID:SchoolNow
CALSCALE:GREGORIAN
BEGIN:VEVENT
UID:519613ee-8c9d-11ef-96a9-0efca169c607
DTSTAMP:20250919T143411Z
SUMMARY:CDD Board Meeting - Sept. 2025
LOCATION:Parkway Center CDD Clubhouse Located at 7461 S Falkenburg Rd River
 view\, FL 33578
URL;VALUE=URI:https://www.myoakcreekcommunity.net/calendar/6843314/cdd-boar
 d-meeting-sept-2025
DTSTART:20250924T223000Z
DTEND:20250924T233000Z
ATTACH;FILENAME=2025-09-24 Parkway Center Agenda.pdf;FMTTYPE=application/pd
 f:https://campussuite-storage.s3.amazonaws.com/prod/1559237/49d0ff4a-8a61-
 11ef-9227-0a58a9feac02/3008392/869979e6-9403-11f0-a898-0a58a9feac02/file/2
 025-09-24 Parkway Center Agenda.pdf
ATTACH;FILENAME=2025-09-24 Parkway Center Agenda Package-compressed.pdf;FMT
 TYPE=application/pdf:https://campussuite-storage.s3.amazonaws.com/prod/155
 9237/49d0ff4a-8a61-11ef-9227-0a58a9feac02/3008391/86992a54-9403-11f0-9044-
 0a58a9feac02/file/2025-09-24 Parkway Center Agenda Package-compressed.pdf
ATTACH;FILENAME=225-09- 24 Parkway Center Rev Agenda.pdf;FMTTYPE=applicatio
 n/pdf:https://campussuite-storage.s3.amazonaws.com/prod/1559237/49d0ff4a-8
 a61-11ef-9227-0a58a9feac02/3009170/a49fa72c-9565-11f0-86e4-0affd059ea83/fi
 le/225-09- 24 Parkway Center Rev Agenda.pdf
END:VEVENT
END:VCALENDAR
