BEGIN:VCALENDAR
VERSION:2.0
PRODID:SchoolNow
CALSCALE:GREGORIAN
BEGIN:VEVENT
UID:1957c7d4-9a20-11f0-a67e-0a58a9feac02
DTSTAMP:20251020T171758Z
SUMMARY:CDD Board Meeting - Oct. 2025
LOCATION:Parkway Center CDD Clubhouse Located at 7461 S Falkenburg Rd River
 view\, FL 33578
URL;VALUE=URI:https://www.myoakcreekcommunity.net/calendar/8663107/cdd-boar
 d-meeting-oct-2025
DTSTART:20251022T223000Z
DTEND:20251022T233000Z
ATTACH;FILENAME=2025-10-22 - Parkway Center CDD - Revised Final Agenda.pdf;
 FMTTYPE=application/pdf:https://campussuite-storage.s3.amazonaws.com/prod/
 1559237/49d0ff4a-8a61-11ef-9227-0a58a9feac02/3023318/b4f92004-add8-11f0-95
 a4-0a58a9feac02/file/2025-10-22 - Parkway Center CDD - Revised Final Agend
 a.pdf
END:VEVENT
END:VCALENDAR
