BEGIN:VCALENDAR
VERSION:2.0
PRODID:SchoolNow
CALSCALE:GREGORIAN
BEGIN:VEVENT
UID:225fa8ba-9a20-11f0-ada3-0a58a9feac02
DTSTAMP:20251112T201438Z
SUMMARY:CDD Board Meeting - Nov. 2025
LOCATION:Parkway Center CDD Clubhouse Located at 7461 S Falkenburg Rd River
 view\, FL 33578
URL;VALUE=URI:https://www.myoakcreekcommunity.net/calendar/8663108/cdd-boar
 d-meeting-nov-2025
DTSTART:20251118T233000Z
DTEND:20251119T003000Z
ATTACH;FILENAME=2025-11-18 - Parkway Center CDD - Final Agenda.pdf;FMTTYPE=
 application/pdf:https://campussuite-storage.s3.amazonaws.com/prod/1559237/
 49d0ff4a-8a61-11ef-9227-0a58a9feac02/3037100/33229590-c004-11f0-a3e4-0ed80
 3c557bd/file/2025-11-18 - Parkway Center CDD - Final Agenda.pdf
END:VEVENT
END:VCALENDAR
