BEGIN:VCALENDAR
VERSION:2.0
PRODID:SchoolNow
CALSCALE:GREGORIAN
BEGIN:VEVENT
UID:44e0d4b8-9a20-11f0-b6e7-0e84c27ea6fb
DTSTAMP:20251210T195633Z
SUMMARY:CDD Board Meeting - Dec. 2025 (see event details for Zoom info)
LOCATION:Parkway Center CDD Clubhouse Located at 7461 S Falkenburg Rd River
 view\, FL 33578
URL;VALUE=URI:https://www.myoakcreekcommunity.net/calendar/8663109/cdd-boar
 d-meeting-dec-2025
DTSTART:20251217T233000Z
DTEND:20251218T003000Z
ATTACH;FILENAME=2025-12-17 - Parkway Center CDD - Final Agenda.pdf;FMTTYPE=
 application/pdf:https://campussuite-storage.s3.amazonaws.com/prod/1559237/
 49d0ff4a-8a61-11ef-9227-0a58a9feac02/3050316/50ea3498-d602-11f0-9613-0a58a
 9feac02/file/2025-12-17 - Parkway Center CDD - Final Agenda.pdf
END:VEVENT
END:VCALENDAR
