BEGIN:VCALENDAR
VERSION:2.0
PRODID:SchoolNow
CALSCALE:GREGORIAN
BEGIN:VEVENT
UID:4f5c58a4-9a20-11f0-a487-0a58a9feac02
DTSTAMP:20260121T225243Z
SUMMARY:CDD Board Meeting - Jan. 2026
LOCATION:Parkway Center CDD Clubhouse Located at 7461 S Falkenburg Rd River
 view\, FL 33578
URL;VALUE=URI:https://www.myoakcreekcommunity.net/calendar/8663110/cdd-boar
 d-meeting-jan-2026
DTSTART:20260128T233000Z
DTEND:20260129T003000Z
ATTACH;FILENAME=2026-01-28 - Parkway Center CDD - Final Agenda.pdf;FMTTYPE=
 application/pdf:https://campussuite-storage.s3.amazonaws.com/prod/1559237/
 49d0ff4a-8a61-11ef-9227-0a58a9feac02/3062608/e2c8c7b4-f71b-11f0-965d-0a58a
 9feac02/file/2026-01-28 - Parkway Center CDD - Final Agenda.pdf
END:VEVENT
END:VCALENDAR
