BEGIN:VCALENDAR
VERSION:2.0
PRODID:SchoolNow
CALSCALE:GREGORIAN
BEGIN:VEVENT
UID:77f4a1e0-9a20-11f0-ae3c-0affe3b30109
DTSTAMP:20260218T184249Z
SUMMARY:CDD Board Meeting - Feb. 2026
LOCATION:Parkway Center CDD Clubhouse Located at 7461 S Falkenburg Rd River
 view\, FL 33578
URL;VALUE=URI:https://www.myoakcreekcommunity.net/calendar/8663111/cdd-boar
 d-meeting-feb-2026
DTSTART:20260225T233000Z
DTEND:20260226T003000Z
ATTACH;FILENAME=2026-02-25 - Parkway Center CDD Agenda Package compressed.p
 df;FMTTYPE=application/pdf:https://campussuite-storage.s3.amazonaws.com/pr
 od/1559237/49d0ff4a-8a61-11ef-9227-0a58a9feac02/3071718/9c31a66a-0cf9-11f1
 -8824-0e8a3ca0f1b9/file/2026-02-25 - Parkway Center CDD Agenda Package com
 pressed.pdf
END:VEVENT
END:VCALENDAR
