BEGIN:VCALENDAR
VERSION:2.0
PRODID:SchoolNow
CALSCALE:GREGORIAN
BEGIN:VEVENT
UID:8382b56a-9a20-11f0-96d2-02978cd4ae17
DTSTAMP:20260318T142018Z
SUMMARY:CDD Board Meeting - Mar. 2026
LOCATION:Parkway Center CDD Clubhouse Located at 7461 S Falkenburg Rd River
 view\, FL 33578
URL;VALUE=URI:https://www.myoakcreekcommunity.net/calendar/8663112/cdd-boar
 d-meeting-mar-2026
DTSTART:20260325T223000Z
DTEND:20260325T233000Z
ATTACH;FILENAME=2026-03-25 PARKWAY CENTER CDD AGENDA PACKAGE.pdf;FMTTYPE=ap
 plication/pdf:https://campussuite-storage.s3.amazonaws.com/prod/1559237/49
 d0ff4a-8a61-11ef-9227-0a58a9feac02/3080839/939a1630-22d5-11f1-8afc-0a58a9f
 eac02/file/2026-03-25 PARKWAY CENTER CDD AGENDA PACKAGE.pdf
END:VEVENT
END:VCALENDAR
