BEGIN:VCALENDAR
VERSION:2.0
PRODID:SchoolNow
CALSCALE:GREGORIAN
BEGIN:VEVENT
UID:8c4420e4-9a20-11f0-929a-0a58a9feac02
DTSTAMP:20260415T202232Z
SUMMARY:CDD Board Meeting - Apr. 2026
LOCATION:Parkway Center CDD Clubhouse Located at 7461 S Falkenburg Rd River
 view\, FL 33578
URL;VALUE=URI:https://www.myoakcreekcommunity.net/calendar/8663113/cdd-boar
 d-meeting-apr-2026
DTSTART:20260422T223000Z
DTEND:20260422T233000Z
ATTACH;FILENAME=2026-04-22 PARKWAY CENTER CDD AGENDA PACKAGE.pdf;FMTTYPE=ap
 plication/pdf:https://campussuite-storage.s3.amazonaws.com/prod/1559237/49
 d0ff4a-8a61-11ef-9227-0a58a9feac02/3089874/d1916fbc-3908-11f1-bad2-0a58a9f
 eac02/file/2026-04-22 PARKWAY CENTER CDD AGENDA PACKAGE.pdf
END:VEVENT
END:VCALENDAR
