BEGIN:VCALENDAR
VERSION:2.0
PRODID:SchoolNow
CALSCALE:GREGORIAN
BEGIN:VEVENT
UID:9700d216-9a20-11f0-9ae7-0a58a9feac02
DTSTAMP:20250925T150201Z
SUMMARY:CDD Board Meeting - May 2026
LOCATION:Parkway Center CDD Clubhouse Located at 7461 S Falkenburg Rd River
 view\, FL 33578
URL;VALUE=URI:https://www.myoakcreekcommunity.net/calendar/8663114/cdd-boar
 d-meeting-may-2026
DTSTART:20260527T223000Z
DTEND:20260527T233000Z
END:VEVENT
END:VCALENDAR
