BEGIN:VCALENDAR
VERSION:2.0
PRODID:SchoolNow
CALSCALE:GREGORIAN
BEGIN:VEVENT
UID:a2bea150-9a20-11f0-9e55-0a58a9feac02
DTSTAMP:20250925T150220Z
SUMMARY:CDD Board Meeting - Jun. 2026
LOCATION:Parkway Center CDD Clubhouse Located at 7461 S Falkenburg Rd River
 view\, FL 33578
URL;VALUE=URI:https://www.myoakcreekcommunity.net/calendar/8663115/cdd-boar
 d-meeting-jun-2026
DTSTART:20260624T223000Z
DTEND:20260624T233000Z
END:VEVENT
END:VCALENDAR
