BEGIN:VCALENDAR
VERSION:2.0
PRODID:SchoolNow
CALSCALE:GREGORIAN
BEGIN:VEVENT
UID:aa911fa2-9a20-11f0-be1c-0a58a9feac02
DTSTAMP:20250925T150233Z
SUMMARY:CDD Board Meeting - Jul. 2026
LOCATION:Parkway Center CDD Clubhouse Located at 7461 S Falkenburg Rd River
 view\, FL 33578
URL;VALUE=URI:https://www.myoakcreekcommunity.net/calendar/8663116/cdd-boar
 d-meeting-jul-2026
DTSTART:20260722T223000Z
DTEND:20260722T233000Z
END:VEVENT
END:VCALENDAR
