BEGIN:VCALENDAR
VERSION:2.0
PRODID:SchoolNow
CALSCALE:GREGORIAN
BEGIN:VEVENT
UID:b3916bac-9a20-11f0-8bc7-0e84c27ea6fb
DTSTAMP:20250925T150249Z
SUMMARY:CDD Board Meeting - Aug. 2026
LOCATION:Parkway Center CDD Clubhouse Located at 7461 S Falkenburg Rd River
 view\, FL 33578
URL;VALUE=URI:https://www.myoakcreekcommunity.net/calendar/8663117/cdd-boar
 d-meeting-aug-2026
DTSTART:20260826T223000Z
DTEND:20260826T233000Z
END:VEVENT
END:VCALENDAR
