BEGIN:VCALENDAR
VERSION:2.0
PRODID:SchoolNow
CALSCALE:GREGORIAN
BEGIN:VEVENT
UID:bce00e16-9a20-11f0-9625-0a58a9feac02
DTSTAMP:20250925T150304Z
SUMMARY:CDD Board Meeting - Sept. 2026
LOCATION:Parkway Center CDD Clubhouse Located at 7461 S Falkenburg Rd River
 view\, FL 33578
URL;VALUE=URI:https://www.myoakcreekcommunity.net/calendar/8663118/cdd-boar
 d-meeting-sept-2026
DTSTART:20260923T223000Z
DTEND:20260923T233000Z
END:VEVENT
END:VCALENDAR
